Workbook
Name AREAS: Lists!$B$2:$B$19

Sheet About
B5: NumbrLabs Ltd
B6: First Floor Office
B7: 3 Hornton Place
B8: London
B9: W8 4LZ
B11: 020 3930 4190
B13: numbrlabs.com
B14: hello@numbrlabs.com

Sheet Instructions
B2: Instructions

Sheet Example
A1: # | B1: ACT | C1: AREA | D1: DETAILS | E1: RESPONSIBLE ROLE | F1: HOW TO EVIDENCE ADHERENCE
A2: 1 | B2: Management of Health and Safety at Work Regulations 1999 | C2: Health & Safety | D2: Assess workplace hazards and implement controls to reduce risk to employees and visitors. | E2: =IF(ISNA(VLOOKUP(C2,Lists!B:C,2,FALSE))=TRUE,"",VLOOKUP(C2,Lists!B:C,2,FALSE)) -> H&S Manager | F2: Risk assessments completed, reviewed and retained. H&S policy communicated to staff.
A3: =IF(ISBLANK(B2)=TRUE,"",A2+1) -> 2 | B3: Management of Health and Safety at Work Regulations 1999 | C3: Health & Safety | D3: Designate a competent person to coordinate health and safety activities and provide advice where required. | E3: =IF(ISNA(VLOOKUP(C3,Lists!B:C,2,FALSE))=TRUE,"",VLOOKUP(C3,Lists!B:C,2,FALSE)) -> H&S Manager | F3: Competent person identified and responsibilities documented in Job Description.
A4: =IF(ISBLANK(B3)=TRUE,"",A3+1) -> 3 | B4: Health and Safety (Display Screen Equipment) Regulations 1992 | C4: Health & Safety | D4: Assess workstation setup for employees who regularly use computers and provide guidance to reduce discomfort and injury. | E4: =IF(ISNA(VLOOKUP(C4,Lists!B:C,2,FALSE))=TRUE,"",VLOOKUP(C4,Lists!B:C,2,FALSE)) -> H&S Manager | F4: DSE assessments completed and corrective actions recorded.
A5: =IF(ISBLANK(B4)=TRUE,"",A4+1) -> 4 | B5: Data Protection Act 2018 | C5: Data Protection & Cyber Security | D5: Protect personal information and ensure it is processed lawfully and securely. | E5: =IF(ISNA(VLOOKUP(C5,Lists!B:C,2,FALSE))=TRUE,"",VLOOKUP(C5,Lists!B:C,2,FALSE)) -> IT Manager | F5: Privacy policy, staff training records and access controls maintained. Registration with ICO.

Sheet Template
A1: # (auto) | B1: ACT or LEGISLATION | C1: AREA (select from drop down) | D1: DETAILS | E1: RESPONSIBLE ROLE (auto populated from Area) | F1: HOW TO EVIDENCE ADHERENCE
A2: 1 | B2: Bribery Act 2010 | E2: =IF(ISNA(VLOOKUP(C2,Lists!B:C,2,FALSE))=TRUE,"",VLOOKUP(C2,Lists!B:C,2,FALSE))
A3: =IF(ISBLANK(B2)=TRUE,"",A2+1) -> 2 | B3: Building Act 1984 / Building Regulations 2010 | E3: =IF(ISNA(VLOOKUP(C3,Lists!B:C,2,FALSE))=TRUE,"",VLOOKUP(C3,Lists!B:C,2,FALSE))
A4: =IF(ISBLANK(B3)=TRUE,"",A3+1) -> 3 | B4: Clean Air Act 1993 | E4: =IF(ISNA(VLOOKUP(C4,Lists!B:C,2,FALSE))=TRUE,"",VLOOKUP(C4,Lists!B:C,2,FALSE))
A5: =IF(ISBLANK(B4)=TRUE,"",A4+1) -> 4 | B5: Companies Act 2006 | E5: =IF(ISNA(VLOOKUP(C5,Lists!B:C,2,FALSE))=TRUE,"",VLOOKUP(C5,Lists!B:C,2,FALSE))
A6: =IF(ISBLANK(B5)=TRUE,"",A5+1) -> 5 | B6: Construction (Design and Management) Regulations 2015 | E6: =IF(ISNA(VLOOKUP(C6,Lists!B:C,2,FALSE))=TRUE,"",VLOOKUP(C6,Lists!B:C,2,FALSE))
A7: =IF(ISBLANK(B6)=TRUE,"",A6+1) -> 6 | B7: Control of Asbestos Regulations 2012 | E7: =IF(ISNA(VLOOKUP(C7,Lists!B:C,2,FALSE))=TRUE,"",VLOOKUP(C7,Lists!B:C,2,FALSE))
A8: =IF(ISBLANK(B7)=TRUE,"",A7+1) -> 7 | B8: Control of Noise at Work Regulations 2005 | E8: =IF(ISNA(VLOOKUP(C8,Lists!B:C,2,FALSE))=TRUE,"",VLOOKUP(C8,Lists!B:C,2,FALSE))
A9: =IF(ISBLANK(B8)=TRUE,"",A8+1) -> 8 | B9: Control of Pollution Act | E9: =IF(ISNA(VLOOKUP(C9,Lists!B:C,2,FALSE))=TRUE,"",VLOOKUP(C9,Lists!B:C,2,FALSE))
A10: =IF(ISBLANK(B9)=TRUE,"",A9+1) -> 9 | B10: Control of Substances Hazardous to Health Regulations 2002 (COSHH) | E10: =IF(ISNA(VLOOKUP(C10,Lists!B:C,2,FALSE))=TRUE,"",VLOOKUP(C10,Lists!B:C,2,FALSE))
A11: =IF(ISBLANK(B10)=TRUE,"",A10+1) -> 10 | B11: Corporate Manslaughter and Corporate Homicide Act 2007 | E11: =IF(ISNA(VLOOKUP(C11,Lists!B:C,2,FALSE))=TRUE,"",VLOOKUP(C11,Lists!B:C,2,FALSE))
A12: =IF(ISBLANK(B11)=TRUE,"",A11+1) -> 11 | B12: Corporation Tax Act | E12: =IF(ISNA(VLOOKUP(C12,Lists!B:C,2,FALSE))=TRUE,"",VLOOKUP(C12,Lists!B:C,2,FALSE))
A13: =IF(ISBLANK(B12)=TRUE,"",A12+1) -> 12 | B13: Data Protection Act 2018 | E13: =IF(ISNA(VLOOKUP(C13,Lists!B:C,2,FALSE))=TRUE,"",VLOOKUP(C13,Lists!B:C,2,FALSE))
A14: =IF(ISBLANK(B13)=TRUE,"",A13+1) -> 13 | B14: Electricity at Work Regulations 1989 | E14: =IF(ISNA(VLOOKUP(C14,Lists!B:C,2,FALSE))=TRUE,"",VLOOKUP(C14,Lists!B:C,2,FALSE))
... A46: =IF(ISBLANK(B45)=TRUE,"",A45+1) -> 45 | B46: Workplace (Health, Safety and Welfare) Regulations 1992 | E46: =IF(ISNA(VLOOKUP(C46,Lists!B:C,2,FALSE))=TRUE,"",VLOOKUP(C46,Lists!B:C,2,FALSE))
A47: =IF(ISBLANK(B46)=TRUE,"",A46+1) -> 46 | E47: =IF(ISNA(VLOOKUP(C47,Lists!B:C,2,FALSE))=TRUE,"",VLOOKUP(C47,Lists!B:C,2,FALSE))
A48: =IF(ISBLANK(B47)=TRUE,"",A47+1) | E48: =IF(ISNA(VLOOKUP(C48,Lists!B:C,2,FALSE))=TRUE,"",VLOOKUP(C48,Lists!B:C,2,FALSE))
A49: =IF(ISBLANK(B48)=TRUE,"",A48+1) | E49: =IF(ISNA(VLOOKUP(C49,Lists!B:C,2,FALSE))=TRUE,"",VLOOKUP(C49,Lists!B:C,2,FALSE))
A50: =IF(ISBLANK(B49)=TRUE,"",A49+1) | E50: =IF(ISNA(VLOOKUP(C50,Lists!B:C,2,FALSE))=TRUE,"",VLOOKUP(C50,Lists!B:C,2,FALSE))
A51: =IF(ISBLANK(B50)=TRUE,"",A50+1) | E51: =IF(ISNA(VLOOKUP(C51,Lists!B:C,2,FALSE))=TRUE,"",VLOOKUP(C51,Lists!B:C,2,FALSE))
A52: =IF(ISBLANK(B51)=TRUE,"",A51+1) | E52: =IF(ISNA(VLOOKUP(C52,Lists!B:C,2,FALSE))=TRUE,"",VLOOKUP(C52,Lists!B:C,2,FALSE))
A53: =IF(ISBLANK(B52)=TRUE,"",A52+1) | E53: =IF(ISNA(VLOOKUP(C53,Lists!B:C,2,FALSE))=TRUE,"",VLOOKUP(C53,Lists!B:C,2,FALSE))
A54: =IF(ISBLANK(B53)=TRUE,"",A53+1) | E54: =IF(ISNA(VLOOKUP(C54,Lists!B:C,2,FALSE))=TRUE,"",VLOOKUP(C54,Lists!B:C,2,FALSE))
A55: =IF(ISBLANK(B54)=TRUE,"",A54+1) | E55: =IF(ISNA(VLOOKUP(C55,Lists!B:C,2,FALSE))=TRUE,"",VLOOKUP(C55,Lists!B:C,2,FALSE))
A56: =IF(ISBLANK(B55)=TRUE,"",A55+1) | E56: =IF(ISNA(VLOOKUP(C56,Lists!B:C,2,FALSE))=TRUE,"",VLOOKUP(C56,Lists!B:C,2,FALSE))
A57: =IF(ISBLANK(B56)=TRUE,"",A56+1) | E57: =IF(ISNA(VLOOKUP(C57,Lists!B:C,2,FALSE))=TRUE,"",VLOOKUP(C57,Lists!B:C,2,FALSE))
A58: =IF(ISBLANK(B57)=TRUE,"",A57+1) | E58: =IF(ISNA(VLOOKUP(C58,Lists!B:C,2,FALSE))=TRUE,"",VLOOKUP(C58,Lists!B:C,2,FALSE))
... A200: =IF(ISBLANK(B199)=TRUE,"",A199+1) | E200: =IF(ISNA(VLOOKUP(C200,Lists!B:C,2,FALSE))=TRUE,"",VLOOKUP(C200,Lists!B:C,2,FALSE))

Sheet Review
B2: Legal Register Review
B4: REVIEW BY DATE | C4: REVIEWED BY | D4: NAME | E4: DATE REVIEWED | F4: OUTCOME OR ACTION | G4: STATUS | H4: INSTRUCTIONS
B5: =NOW() -> 46192.661
B6: =EDATE(B5,12) -> 46557
B7: =EDATE(B6,12) -> 46923
B8: =EDATE(B7,12) -> 47288
B9: =EDATE(B8,12) -> 47653
B10: =EDATE(B9,12) -> 48018
B11: =EDATE(B10,12) -> 48384
B12: =EDATE(B11,12) -> 48749
B13: =EDATE(B12,12) -> 49114
B14: =EDATE(B13,12) -> 49479
B15: =EDATE(B14,12) -> 49845
B16: =EDATE(B15,12) -> 50210
B17: =EDATE(B16,12) -> 50575
... B24: =EDATE(B23,12) -> 53132

Sheet Lists
A1: # | B1: AREAS | C1: RESPONSIBLE ROLE | D1: RESPONSIBLE PERSON | E1: INSTRUCTIONS
A2: 1 | B2: Commercial & Trading | C2: Operations Manager | D2: Sarah Brown
A3: =A2+1 -> 2 | B3: Consumer Rights | C3: Operations Manager | D3: Sarah Brown
A4: =A3+1 -> 3 | B4: Data Protection & Cyber Security | C4: IT Manager | D4: John Doe
A5: =A4+1 -> 4 | B5: Employment | C5: HR Manager | D5: Jane Doe
A6: =A5+1 -> 5 | B6: Environment | C6: Operations Manager | D6: Sarah Brown
A7: =A6+1 -> 6 | B7: Finance & Taxation | C7: Finance Manager | D7: David Green
A8: =A7+1 -> 7 | B8: Governance & Company | C8: Director | D8: John Jones
A9: =A8+1 -> 8 | B9: Health & Safety | C9: H&S Manager | D9: Helen Back
A10: =A9+1 -> 9 | B10: Industry Specific | C10: Operations Manager | D10: Sarah Brown
A11: =A10+1 -> 10 | B11: Property & Premises | C11: Facilities Management | D11: Daniel Pink
A12: =A11+1 -> 11
A13: =A12+1 -> 12
A14: =A13+1 -> 13
A15: =A14+1 -> 14
A16: =A15+1 -> 15
A17: =A16+1 -> 16
A18: =A17+1 -> 17
A19: =A18+1 -> 18
